BEGIN:VCALENDAR
VERSION:2.0
PRODID:-//eventon.com NONSGML v1.0//EN
CALSCALE:GREGORIAN
METHOD:PUBLISH
BEGIN:VEVENT
UID:69e4f83bbdd77
DTSTAMP:20260419T154355Z
DTSTART:20230511
DTEND:20230512
LOCATION:
SUMMARY:Hast du Töne
DESCRIPTION:Die Treffen finden in der Regel jeden zweiten Donnerstag im Mon
 at statt und sind kostenfrei. Neue Interessenten sind je nach freien Kapazi
 täten herzlich eingeladen\,  die Selbsthilfegruppe zu besuchen. Hierzu wir
 d um eine kurze Anmeldung gebeten. Uhrzeit bitte erfragen. Info und Anmeldu
 ng: Holger Crump\,  holgercrump@hotmail.de\,  Tel. 02202-25 17 109\nhttps:/
 /in-gl.de/events/hast-du-toene-4/
URL:https://in-gl.de/events/hast-du-toene-4/
END:VEVENT
END:VCALENDAR