BEGIN:VCALENDAR
VERSION:2.0
PRODID:-//eventon.com NONSGML v1.0//EN
CALSCALE:GREGORIAN
METHOD:PUBLISH
BEGIN:VEVENT
UID:69e62586cc394
DTSTAMP:20260420T130926Z
DTSTART:20230126T190000Z
DTEND:20230126T235000Z
LOCATION:
SUMMARY:Versteckt in Holland\,  ausgewandert nach Israel
DESCRIPTION:Ein Holocaust-Überlebender berichtet:  Herman Obstfeld\,  der
  sich heute Zwi nennt\,  wurde 1939 in Amsterdam geboren und wuchs dort als
  Kind jüdischer Eltern auf. Juden stellten damals 10 % der Bevölkerung vo
 n Amsterdam und waren seit Jahrhunderten vollständig integriert. Nach der 
 deutschen Invasion im Mai 1940 begann die Schreckenszeit auch für[..]\nhtt
 ps://in-gl.de/events/versteckt-in-holland-ausgewandert-nach-israel/
URL:https://in-gl.de/events/versteckt-in-holland-ausgewandert-nach-israel/
END:VEVENT
END:VCALENDAR