BEGIN:VCALENDAR
VERSION:2.0
PRODID:-//eventon.com NONSGML v1.0//EN
CALSCALE:GREGORIAN
METHOD:PUBLISH
BEGIN:VEVENT
UID:69eb8df563ded
DTSTAMP:20260424T153621Z
DTSTART:20230321T143000Z
DTEND:20230321T235000Z
LOCATION:
SUMMARY:Faszination Wasser
DESCRIPTION:Faszination Wasser – magische Spiegelungen. Eine Fotoausstell
 ung von Joachim Kraus. Der Fotograf wird anwesend sein und die Besucher bei
  Kaffee und Kuchen thematisch in seine Fotos einführen. Die Fotos wurden z
 wischen September 2016 und Februar 2023 zu den unterschiedlichsten Jahres- 
 und Tageszeiten aufgenommen. „Durch das Zusammenspiel von Sonnenlicht\,  
 der Bewegung[..]\nhttps://in-gl.de/events/faszination-wasser/
URL:https://in-gl.de/events/faszination-wasser/
END:VEVENT
END:VCALENDAR