BEGIN:VCALENDAR
VERSION:2.0
PRODID:-//eventon.com NONSGML v1.0//EN
CALSCALE:GREGORIAN
METHOD:PUBLISH
BEGIN:VEVENT
UID:69e99c4dd62df
DTSTAMP:20260423T041301Z
DTSTART:20230527T200000Z
DTEND:20230527T235000Z
LOCATION:
SUMMARY:3. Paffrather Orgelnacht
DESCRIPTION:Am Pfingstsamstag\,  27. Mai findet ab 20 Uhr die 3. Paffrather
  Orgelnacht in St. Clemens statt. 4 mal 30 Minuten Orgelmusik. Fast auf den
  Tag genau vor vier Jahren wurde nach intensiver Planung und langer Bauphas
 e die neue Scholz-Orgel eingeweiht\,  und das Instrument hat inzwischen auf
  vielfältige Weise seine außerordentliche[..]\nhttps://in-gl.de/events/3-
 paffrather-orgelnacht/
URL:https://in-gl.de/events/3-paffrather-orgelnacht/
END:VEVENT
END:VCALENDAR