BEGIN:VCALENDAR
VERSION:2.0
PRODID:-//eventon.com NONSGML v1.0//EN
CALSCALE:GREGORIAN
METHOD:PUBLISH
BEGIN:VEVENT
UID:69e9522143fb0
DTSTAMP:20260422T225633Z
DTSTART:20230919T193000Z
DTEND:20230919T235000Z
LOCATION:
SUMMARY:Max-Bruch-Jazzclub
DESCRIPTION:Im neuen Schuljahr startet die Städtische Max-Bruch-Musikschul
 e ihre Reihe im Max-Bruch-Jazzclub. Sie präsentiert die Jazz-Sängerin Nad
 ia Ollig\,  die Jazz- Gesang als Unterrichtsfach anbietet. Mit im Quartett 
 spielen ihre Kollegen Marcel Wasserfuhr am Schlagzeug\,  Nondas Ladas an de
 r E-Gitarre und als Gast der E-Bassist Klaus Fischer aus Köln. Nadia Ollig
  ist[..]\nhttps://in-gl.de/events/max-bruch-jazzclub-3/
URL:https://in-gl.de/events/max-bruch-jazzclub-3/
END:VEVENT
END:VCALENDAR