BEGIN:VCALENDAR
VERSION:2.0
PRODID:-//eventon.com NONSGML v1.0//EN
CALSCALE:GREGORIAN
METHOD:PUBLISH
BEGIN:VEVENT
UID:69e789cfe324d
DTSTAMP:20260421T142935Z
DTSTART:20231027T193000Z
DTEND:20231027T235000Z
LOCATION:
SUMMARY:Live-Musik: MelRo Duo
DESCRIPTION:Mel und Roland bieten ein vielseitiges Repertoire voller Highli
 ghts.\nhttps://in-gl.de/events/konzert-melro-duo/
URL:https://in-gl.de/events/konzert-melro-duo/
END:VEVENT
END:VCALENDAR