BEGIN:VCALENDAR
VERSION:2.0
PRODID:-//eventon.com NONSGML v1.0//EN
CALSCALE:GREGORIAN
METHOD:PUBLISH
BEGIN:VEVENT
UID:69e54c546745e
DTSTAMP:20260419T214244Z
DTSTART:20240122T180000Z
DTEND:20240122T200000Z
LOCATION:
SUMMARY:Mein Darm und ich
DESCRIPTION:Die Selbsthilfegruppe „mein Darm und ich“ richtet sich an M
 enschen\,  die an Divertikulitis und Reizdarm leiden. Hier finden Sie in f
 reundlicher Atmosphäre persönlichen Erfahrungsaustausch\,  Unterstützung
  und Informationen. Die Gruppe trifft sich jeden vierten Montag im Monat. K
 ontakt und Info:  a.voigt-gl@gmx.de\nhttps://in-gl.de/events/mein-darm-und
 -ich/
URL:https://in-gl.de/events/mein-darm-und-ich/
END:VEVENT
END:VCALENDAR