BEGIN:VCALENDAR
VERSION:2.0
PRODID:-//eventon.com NONSGML v1.0//EN
CALSCALE:GREGORIAN
METHOD:PUBLISH
BEGIN:VEVENT
UID:69e60e8fe9266
DTSTAMP:20260420T113127Z
DTSTART:20231223T150000Z
DTEND:20231223T235000Z
LOCATION:
SUMMARY:Offenes Weihnachtssingen
DESCRIPTION:Alte und Neue Weihnachtslieder\,  zum Mitsingen und ZuhÃ¶ren fÃ
 ¼r GroÃŸ und Klein. GroÃŸeltern\,  Eltern und Kinder sind dazu herzlich ein
 geladen. Mehr zum Thema: https://in-gl.de/2023/11/20/seit-2016-bietet-der-g
 esangverein-harmonie-offene-singabende-fuer-alle-an/\nhttps://in-gl.de/even
 ts/offenes-weihnachtssingen/
URL:https://in-gl.de/events/offenes-weihnachtssingen/
END:VEVENT
END:VCALENDAR