BEGIN:VCALENDAR
VERSION:2.0
PRODID:-//eventon.com NONSGML v1.0//EN
CALSCALE:GREGORIAN
METHOD:PUBLISH
BEGIN:VEVENT
UID:69ecf2fedac75
DTSTAMP:20260425T165942Z
DTSTART:20240711T193000Z
DTEND:20240711T235000Z
LOCATION:
SUMMARY:Stammtisch Die Grünen
DESCRIPTION:Der Ortsverein von Bündnis 90 / Die Grünen lädt an jeden zwe
 iten Donnerstag im Monat um 19:30 im Gasthaus Paas zu offenen Stammtisch ei
 n. &nbsp;\nhttps://in-gl.de/events/stammtisch-die-gruenen-6/
URL:https://in-gl.de/events/stammtisch-die-gruenen-6/
END:VEVENT
END:VCALENDAR