BEGIN:VCALENDAR
VERSION:2.0
PRODID:-//eventon.com NONSGML v1.0//EN
CALSCALE:GREGORIAN
METHOD:PUBLISH
BEGIN:VEVENT
UID:69e7decd89e14
DTSTAMP:20260421T203213Z
DTSTART:20240710T150000Z
DTEND:20240710T235000Z
LOCATION:
SUMMARY:Kunstgenuss\,  Kaffee und Kuchen
DESCRIPTION:Das Kunstmuseum Villa Zanders lädt mittwochs um 15 Uhr zum bel
 iebten Kunstgenuss ein. Diesmal in die Ausstellung "Martin Noël – Otto F
 reundlich. Die Entdeckung der Moderne" ein. Nach der Führung besteht bei K
 affee und Kuchen die Gelegenheit zu einem angeregten Gespräch. Eine telefo
 nische Anmeldung ist bis zum Dienstag erforderlich unter[..]\nhttps://in-gl
 .de/events/kunstgenuss-kaffee-und-kuchen-14/
URL:https://in-gl.de/events/kunstgenuss-kaffee-und-kuchen-14/
END:VEVENT
END:VCALENDAR