BEGIN:VCALENDAR
VERSION:2.0
PRODID:-//eventon.com NONSGML v1.0//EN
CALSCALE:GREGORIAN
METHOD:PUBLISH
BEGIN:VEVENT
UID:69e522847314a
DTSTAMP:20260419T184420Z
DTSTART:20240612T193000Z
DTEND:20240612T235000Z
LOCATION:
SUMMARY:Gesprächsreihe mit Gerd Achenbach
DESCRIPTION:Die Frage danach\,  was ein gutes Leben ist\,  was der Sinn des
  Lebens und was Glück ist\,  beschäftigte die Philosophie zu allen Zeiten
  und in allen Kulturen\,  mit unterschiedlichen Ergebnissen. Diese verschie
 denen Sichtweisen können uns helfen\,  über unseren Tellerrand hinauszubl
 icken und Visionen zu entwickeln\,  wie wir uns als Einzelne\,  als[..]\nht
 tps://in-gl.de/events/gespraechsreihe-mit-gerd-achenbach/
URL:https://in-gl.de/events/gespraechsreihe-mit-gerd-achenbach/
END:VEVENT
END:VCALENDAR