BEGIN:VCALENDAR
VERSION:2.0
PRODID:-//eventon.com NONSGML v1.0//EN
CALSCALE:GREGORIAN
METHOD:PUBLISH
BEGIN:VEVENT
UID:69e4fbe013bf5
DTSTAMP:20260419T155928Z
DTSTART:20240613T090000Z
DTEND:20240613T120000Z
LOCATION:
SUMMARY:Betreuungsstelle berät auf dem Wochenmarkt
DESCRIPTION:Die Betreuungsbehörde der Stadt Bergisch Gladbach informiert a
 m Mittwoch auf dem Wochenmarkt in der Stadtmitte unter dem Motto „Wer klu
 g ist\,  sorgt vor“ über die Erteilung von Vollmachten\,  das Betreuungs
 recht und die Patientenverfügung. Wenn Menschen ihre Angelegenheiten nicht
  mehr selbst erledigen können\,  entstehen eine Reihe von Fragen\,  zum Be
 ispiel: Wer[..]\nhttps://in-gl.de/events/betreuungsstelle-beraet-auf-dem-wo
 chenmarkt-2/
URL:https://in-gl.de/events/betreuungsstelle-beraet-auf-dem-wochenmarkt-2/
END:VEVENT
END:VCALENDAR