BEGIN:VCALENDAR
VERSION:2.0
PRODID:-//eventon.com NONSGML v1.0//EN
CALSCALE:GREGORIAN
METHOD:PUBLISH
BEGIN:VEVENT
UID:69e79bd7aa5da
DTSTAMP:20260421T154631Z
DTSTART:20240615T110000Z
DTEND:20240615T170000Z
LOCATION:
SUMMARY:60 Jahre Jubiläumsfeier
DESCRIPTION:Bei Kölsch\,  Weißwein oder alkoholfreien Getränken und jede
 r Menge gegrillter und frischer Verpflegung wollen wir den Tag und das hoff
 entlich schöne Sommerwetter genießen. Für die Kinder wird vor der Turnha
 lle eine Hüpfburg aufgebaut. Unsere Sportabteilungen laden ein zum freien 
 Ausprobieren. Ob Tischtennis\,  Kickboxen oder Kinderturnen. Gäste sind he
 rzlich eingeladen\,  sich[..]\nhttps://in-gl.de/events/60-jahre-jubilaeumsf
 eier/
URL:https://in-gl.de/events/60-jahre-jubilaeumsfeier/
END:VEVENT
END:VCALENDAR