BEGIN:VCALENDAR
VERSION:2.0
PRODID:-//eventon.com NONSGML v1.0//EN
CALSCALE:GREGORIAN
METHOD:PUBLISH
BEGIN:VEVENT
UID:69ea48cf5eb9c
DTSTAMP:20260423T162903Z
DTSTART:20240612T193000Z
DTEND:20240612T235000Z
LOCATION:
SUMMARY:Kultkino: Oh La La - Wer ahnt denn sowas?
DESCRIPTION:Ein DNA-Test sorgt bei einer Familienzusammenkunft für eine Ü
 berraschung…. Die Familie Bouvier-Sauvage\,  ein altes französisches Ari
 stokraten-Geschlecht\,  gerät ungeplant an die in viel bescheideneren Verh
 ältnissen lebenden Martins. Der Grund: Alice Bouveier-Sauvage (Chloé Coul
 loud) und François Martin (Julien Pestel) haben sich verliebt und wollen h
 eiraten. Zu diesem – jedenfalls für die beiden[..]\nhttps://in-gl.de/eve
 nts/kultkino-oh-la-la-wer-ahnt-denn-sowas/
URL:https://in-gl.de/events/kultkino-oh-la-la-wer-ahnt-denn-sowas/
END:VEVENT
END:VCALENDAR