BEGIN:VCALENDAR
VERSION:2.0
PRODID:-//eventon.com NONSGML v1.0//EN
CALSCALE:GREGORIAN
METHOD:PUBLISH
BEGIN:VEVENT
UID:69e4d6af17377
DTSTAMP:20260419T132047Z
DTSTART:20240605T193000Z
DTEND:20240605T235000Z
LOCATION:
SUMMARY:Begegnungen
DESCRIPTION:Das Motiv der Begegnung in der Kunst ist oft ein Spiegelbild de
 r Begegnungen im Leben – mal flüchtig oder zufällig\,  mal tiefgründig
  und lebensweisend. Auch die Betrachtung eines Kunstwerks selbst ist eine B
 egegnung. Kunst fordert den Betrachter heraus\,  sich mit ihr auseinanderzu
 setzen\,  wenn dies glückt\,  findet ein Dialog ohne Worte[..]\nhttps://in
 -gl.de/events/begegnungen/
URL:https://in-gl.de/events/begegnungen/
END:VEVENT
END:VCALENDAR