BEGIN:VCALENDAR
VERSION:2.0
PRODID:-//eventon.com NONSGML v1.0//EN
CALSCALE:GREGORIAN
METHOD:PUBLISH
BEGIN:VEVENT
UID:69e7c50959a8b
DTSTAMP:20260421T184217Z
DTSTART:20240613T193000Z
DTEND:20240613T210000Z
LOCATION:
SUMMARY:Medizindialog: Organspender sein – Mensch bleiben
DESCRIPTION:Christian de Buhr\,  Oberarzt der Klinik für Anästhesiologie 
 und Intensivmedizin spricht über die Entscheidung\,  Organspender zu werde
 n. In Deutschland gibt es weiterhin Vorbehalte gegenüber dem Ausfüllen ei
 nes Organspendeausweises. Nur etwa 40 Prozent der Bevölkerung haben sich l
 aut einer Umfrage zu einer Organspende nach dem Tod bereit erklärt. Eine O
 rganspende annehmen[..]\nhttps://in-gl.de/events/medizindialog-organspender
 -sein-mensch-bleiben/
URL:https://in-gl.de/events/medizindialog-organspender-sein-mensch-bleiben/
END:VEVENT
END:VCALENDAR