BEGIN:VCALENDAR
VERSION:2.0
PRODID:-//eventon.com NONSGML v1.0//EN
CALSCALE:GREGORIAN
METHOD:PUBLISH
BEGIN:VEVENT
UID:69e5228e7163d
DTSTAMP:20260419T184430Z
DTSTART:20240709T180000Z
DTEND:20240709T193000Z
LOCATION:
SUMMARY:Rechtsinformation für Frauen
DESCRIPTION:Es fällt eine Gebühr von 10 € an. Anmeldung erforderlich un
 ter 02202-45112 oder frauenberatungsstelle-bgl@t-online.de ________________
 ___________________________________________________________________________
 ________________________________________________ Außensprechstunden für F
 rauen in Rösrath: 11.06. / 09.07. / 13.08.24 in Overath: 20.06. / 15.08.24
  in Kürten: 20.08.24 Der jeweilige Ort wird bei Anmeldung bekanntgegeben. 
 Kostenfrei! Terminvereinbarung erforderlich: 02202-45112 oder frauenberatun
 gsstelle-bgl@t-online.de\nhttps://in-gl.de/events/rechtsinformation-fuer-fr
 auen-3/
URL:https://in-gl.de/events/rechtsinformation-fuer-frauen-3/
END:VEVENT
END:VCALENDAR