BEGIN:VCALENDAR
VERSION:2.0
PRODID:-//eventon.com NONSGML v1.0//EN
CALSCALE:GREGORIAN
METHOD:PUBLISH
BEGIN:VEVENT
UID:69e535656b7b0
DTSTAMP:20260419T200453Z
DTSTART:20240614T180000Z
DTEND:20240614T235000Z
LOCATION:
SUMMARY:Leon Weintraub in Bergisch Gladbach
DESCRIPTION:Bald kommt Leon Weintraub nach Bergisch Gladbach und wird  aus
  seinem bewegten Leben berichten. An die Zuhörer*innen wird er eine klare 
 Botschaft gegen Antisemitismus und jede Form von Rassismus und Ausgrenzung 
 richten.\nhttps://in-gl.de/events/leon-weintraub-in-bergisch-gladbach/
URL:https://in-gl.de/events/leon-weintraub-in-bergisch-gladbach/
END:VEVENT
END:VCALENDAR