BEGIN:VCALENDAR
VERSION:2.0
PRODID:-//eventon.com NONSGML v1.0//EN
CALSCALE:GREGORIAN
METHOD:PUBLISH
BEGIN:VEVENT
UID:69e79bd27fa4e
DTSTAMP:20260421T154626Z
DTSTART:20240614T140000Z
DTEND:20240614T170000Z
LOCATION:
SUMMARY:FreiSpiel - Fußballfieber
DESCRIPTION:Passend zur EM\,  gibt es im Juni Fußballspiele auf beiden Kon
 solen. Für Mitspielende ist gesorgt: Während der Freispiel-Stunden könne
 n mit einem Ansprechpartner Spiele ausprobiert werden. Die Mitarbeitenden d
 er Stadtbücherei bereiten für die Termine jeweils ein Spiel für die Kons
 olen vor und beantworten Fragen rund ums Gaming. Auch an den Gaming-PCs[..]
 \nhttps://in-gl.de/events/freispiel-fussballfieber/
URL:https://in-gl.de/events/freispiel-fussballfieber/
END:VEVENT
END:VCALENDAR