BEGIN:VCALENDAR
VERSION:2.0
PRODID:-//eventon.com NONSGML v1.0//EN
CALSCALE:GREGORIAN
METHOD:PUBLISH
BEGIN:VEVENT
UID:69e4fb7ebf304
DTSTAMP:20260419T155750Z
DTSTART:20240614T170000Z
DTEND:20240614T235000Z
LOCATION:
SUMMARY:JeKits-Konzert
DESCRIPTION:Wie bitte? Ein Krimi in der Schule??? Ja\,  denn am 20. Januar 
 des Jahres 2030 fangen in der Grundschule der Kleinstadt Mühlstedt die Sma
 rtboards von selbst an zu sprechen... Ein Hacker ist unterwegs und keiner h
 at ihn gesehen. Fast 100 Kinder der ersten bis vierten Klassen bringen eine
  spannende Geschichte[..]\nhttps://in-gl.de/events/jekits-konzert/
URL:https://in-gl.de/events/jekits-konzert/
END:VEVENT
END:VCALENDAR