BEGIN:VCALENDAR
VERSION:2.0
PRODID:-//eventon.com NONSGML v1.0//EN
CALSCALE:GREGORIAN
METHOD:PUBLISH
BEGIN:VEVENT
UID:69e4fb83a4c9c
DTSTAMP:20260419T155755Z
DTSTART:20240613T160000Z
DTEND:20240613T200000Z
LOCATION:
SUMMARY:Workshop: Zuhause leben\,  zuhause sterben
DESCRIPTION:Die meisten Menschen wünschen sich\,  zuhause sterben zu könn
 en. Doch nur etwa jeder Fünfte stirbt im eigenen Heim. Die Gründe hierfü
 r sind vielfältig: Unsicherheit der Angehörigen oder die fehlende Kommuni
 kation über Vorstellungen zum Sterben führen viele Menschen schließlich 
 doch ins Krankenhaus. Mit dem Workshop sollen Unsicherheitem abgebaut und F
 ragen geklärt[..]\nhttps://in-gl.de/events/workshop-zuhause-leben-zuhause-
 sterben/
URL:https://in-gl.de/events/workshop-zuhause-leben-zuhause-sterben/
END:VEVENT
END:VCALENDAR