BEGIN:VCALENDAR
VERSION:2.0
PRODID:-//eventon.com NONSGML v1.0//EN
CALSCALE:GREGORIAN
METHOD:PUBLISH
BEGIN:VEVENT
UID:69e7ca9aad245
DTSTAMP:20260421T190602Z
DTSTART:20240628T140000Z
DTEND:20240628T153000Z
LOCATION:
SUMMARY:Revolution in der Kunst - Paris 1863/1874
DESCRIPTION:Der Verein SMARCB1 – Krebsforschung für junge Menschen lädt
  zu einem Besuch der Ausstellung „Revolution in der Kunst – Paris 1863/
 1874“ im Kölner Wallraf-Richartz-Museum ein. Kunsthistorikerin Kerstin M
 eyer-Bialk führt am 28. Juni von 14.00-15.30 Uhr durch die sehenswerte Sch
 au über den Weg der französischen Malerei vom Salon zum Impressionismus. 
 Treffpunkt[..]\nhttps://in-gl.de/events/revolution-in-der-kunst-paris-18631
 874/
URL:https://in-gl.de/events/revolution-in-der-kunst-paris-18631874/
END:VEVENT
END:VCALENDAR