BEGIN:VCALENDAR
VERSION:2.0
PRODID:-//eventon.com NONSGML v1.0//EN
CALSCALE:GREGORIAN
METHOD:PUBLISH
BEGIN:VEVENT
UID:69e4ee2119a16
DTSTAMP:20260419T150049Z
DTSTART:20240702T193000Z
DTEND:20240702T235000Z
LOCATION:
SUMMARY:Vom Vorgestern ins Übermorgen
DESCRIPTION:18:30 Uhr Empfang Was macht eine gute Schule aus? Was ist gute 
 Schule? Diese Fragen haben sich Eltern\,  Schüler\,  Pädagogen und Politi
 ker zu allen Zeiten gestellt und auch stets eine Antwort darauf gefunden. O
 der haben sie nur gemeint\,  eine Antwort zu finden? Gleicht die Suche nach
  der „guten Schule“ nicht[..]\nhttps://in-gl.de/events/vom-vorgestern-i
 ns-uebermorgen/
URL:https://in-gl.de/events/vom-vorgestern-ins-uebermorgen/
END:VEVENT
END:VCALENDAR