BEGIN:VCALENDAR
VERSION:2.0
PRODID:-//eventon.com NONSGML v1.0//EN
CALSCALE:GREGORIAN
METHOD:PUBLISH
BEGIN:VEVENT
UID:69e4da480ea7a
DTSTAMP:20260419T133608Z
DTSTART:20240622T180000Z
DTEND:20240622T000000Z
LOCATION:
SUMMARY:Do IT: Kreative Vielfalt
DESCRIPTION:Auf die Besucherinnen und Besucher des bib warten drei spannend
 e Events: Bei einem Foto-Workshop können sie sich erst professional vor ei
 ner Greenscreen in Szene setzen lassen und anschließend lernen\,  wie man 
 Bilder mit einer KI bearbeitet: Und natürlich können die fertigen Bilder 
 auch mit nach Hause genommen werden! Zudem können[..]\nhttps://in-gl.de/ev
 ents/do-it-kreative-vielfalt/
URL:https://in-gl.de/events/do-it-kreative-vielfalt/
END:VEVENT
END:VCALENDAR