BEGIN:VCALENDAR
VERSION:2.0
PRODID:-//eventon.com NONSGML v1.0//EN
CALSCALE:GREGORIAN
METHOD:PUBLISH
BEGIN:VEVENT
UID:69e789b6ec7e9
DTSTAMP:20260421T142910Z
DTSTART:20240623T140000Z
DTEND:20240623T160000Z
LOCATION:
SUMMARY:Handwerker-Vorführung: Papiermacher
DESCRIPTION:Mit Ingo Schütze. Sonntagnachmittags lassen unsere ehrenamtlic
 hen Handwerker historische Techniken aufleben. Schauen Sie ihnen über die 
 Schulter. Eintritt: 3 Euro / 1\, 50 Euro (ermäßigt) / für Kinder im Vors
 chulalter frei Unsere aktuellen Corona-Schutzmaßnahmen finden Sie unter ww
 w.bergisches-museum.de.\nhttps://in-gl.de/events/handwerker-vorfuehrung-pap
 iermacher/
URL:https://in-gl.de/events/handwerker-vorfuehrung-papiermacher/
END:VEVENT
END:VCALENDAR