BEGIN:VCALENDAR
VERSION:2.0
PRODID:-//eventon.com NONSGML v1.0//EN
CALSCALE:GREGORIAN
METHOD:PUBLISH
BEGIN:VEVENT
UID:69e789ace5ec5
DTSTAMP:20260421T142900Z
DTSTART:20240623T170000Z
DTEND:20240623T235000Z
LOCATION:
SUMMARY:Sommerszenen mit dem Ensemble 07
DESCRIPTION:Erleben Sie unter anderem • den "Sommer" aus Vivaldis "Vier J
 ahreszeiten" • Sommerszenen in Spanien mit Georg Philipp Telemanns Burles
 que "Don Quixotte" • Telemanns Werk "Les Nations" Eintrittskarten 20\, 00
  €\,  Kinder / Schüler/Studenten: 8\, 00 € / Familienkarte 40\, 00 €
  erhalten Sie an der Abendkasse oder im Vorverkauf in den Buchhandlungen[..
 ]\nhttps://in-gl.de/events/sommerszenen-mit-dem-ensemble-07/
URL:https://in-gl.de/events/sommerszenen-mit-dem-ensemble-07/
END:VEVENT
END:VCALENDAR