BEGIN:VCALENDAR
VERSION:2.0
PRODID:-//eventon.com NONSGML v1.0//EN
CALSCALE:GREGORIAN
METHOD:PUBLISH
BEGIN:VEVENT
UID:69e4f1b03528e
DTSTAMP:20260419T151600Z
DTSTART:20240622T133000Z
DTEND:20240622T235000Z
LOCATION:
SUMMARY:Botanischer Spaziergang: Bibelgarten Leichlingen
DESCRIPTION:Leitung: Sabine Schiek Telefonische Anmeldung erbeten unter 022
 04/68801\nhttps://in-gl.de/events/botanischer-spaziergang-bibelgarten-leich
 lingen/
URL:https://in-gl.de/events/botanischer-spaziergang-bibelgarten-leichlingen/
END:VEVENT
END:VCALENDAR