BEGIN:VCALENDAR
VERSION:2.0
PRODID:-//eventon.com NONSGML v1.0//EN
CALSCALE:GREGORIAN
METHOD:PUBLISH
BEGIN:VEVENT
UID:69e79be185a01
DTSTAMP:20260421T154641Z
DTSTART:20240706T103000Z
DTEND:20240706T130000Z
LOCATION:
SUMMARY:Yoga im Museum
DESCRIPTION:Mit Kati Kratz\,  studierte Kunsthistorikerin\,  Journalistin u
 nd zertifizierte Yogalehrerin. Teilnahmegebühr: 25 Euro (inkl. Museumseint
 ritt und Einführung) Online-Anmeldung\nhttps://in-gl.de/events/yoga-im-mus
 eum-10/
URL:https://in-gl.de/events/yoga-im-museum-10/
END:VEVENT
END:VCALENDAR