BEGIN:VCALENDAR
VERSION:2.0
PRODID:-//eventon.com NONSGML v1.0//EN
CALSCALE:GREGORIAN
METHOD:PUBLISH
BEGIN:VEVENT
UID:69e789b1e1657
DTSTAMP:20260421T142905Z
DTSTART:20240710T180000Z
DTEND:20240710T235000Z
LOCATION:
SUMMARY:Lesung: Fantasy- und Science-Fiction
DESCRIPTION:Der Scylla Verlag fördert Nachwuchsautor*innen und bietet ihne
 n das Know-how\,  um ihre Schreibprojekte zu verwirklichen. Kiana Haas und 
 Julien Dehn\,  zwei Gewinner*innen des BOPP 2021\,  verliehen vom Stadtverb
 and Kultur Bergisch Gladbach\,  lesen aus ihren Werken. Alle Gäste sind ei
 ngeladen\,  Fragen zu den Büchern und zur Entstehung der Werke zu stellen\
 , [..]\nhttps://in-gl.de/events/lesung-fantasy-und-science-fiction/
URL:https://in-gl.de/events/lesung-fantasy-und-science-fiction/
END:VEVENT
END:VCALENDAR