BEGIN:VCALENDAR
VERSION:2.0
PRODID:-//eventon.com NONSGML v1.0//EN
CALSCALE:GREGORIAN
METHOD:PUBLISH
BEGIN:VEVENT
UID:69e54c3f5dc48
DTSTAMP:20260419T214223Z
DTSTART:20240711T193000Z
DTEND:20240711T210000Z
LOCATION:
SUMMARY:Medizindialog: Leben bis zuletzt
DESCRIPTION:Im Rahmen der Vortragsreihe „Medizindialog“ des Gesundheits
 campus Quirlsberg stellt Monika Meihack\,  Pflegedienstleiterin des Hospiz 
 am Quirlsberg\,  die Arbeit sowie das Angebot der stationären Einrichtung 
 vor. Gemäß des Grundverständnisses der Hospizbewegung sowie der diakonis
 chen Überzeugung ist es das oberste Anliegen\,  den sterbenden und schwerk
 ranken Mitmenschen eine würdevolle und humane Begleitung und[..]\nhttps://
 in-gl.de/events/medizindialog-leben-bis-zuletzt/
URL:https://in-gl.de/events/medizindialog-leben-bis-zuletzt/
END:VEVENT
END:VCALENDAR