BEGIN:VCALENDAR
VERSION:2.0
PRODID:-//eventon.com NONSGML v1.0//EN
CALSCALE:GREGORIAN
METHOD:PUBLISH
BEGIN:VEVENT
UID:69e7e472a1946
DTSTAMP:20260421T205618Z
DTSTART:20240707T170000Z
DTEND:20240707T235000Z
LOCATION:
SUMMARY:Quirl- Open Air 2024 mit Spangenberg
DESCRIPTION:Klaus Spangenberg ist ein gefragter Gitarrist in der deutschen 
 Musikszene seit den 90er Jahren und seit 20 Jahren Mitglied der Matthias-Re
 im-Band. Bekannt im Ruhrgebiet durch die New York Night Sessions im Riff Cl
 ub Bochum (1999-2019)\,  besann er sich während der Corona-Pandemie auf da
 s Songschreiben. Sein Song „Nicht systemrelevant“ und das[..]\nhttps://
 in-gl.de/events/quirl-open-air-2024-mit-spangenberg/
URL:https://in-gl.de/events/quirl-open-air-2024-mit-spangenberg/
END:VEVENT
END:VCALENDAR