BEGIN:VCALENDAR
VERSION:2.0
PRODID:-//eventon.com NONSGML v1.0//EN
CALSCALE:GREGORIAN
METHOD:PUBLISH
BEGIN:VEVENT
UID:69ecf3131f742
DTSTAMP:20260425T170003Z
DTSTART:20240710T200000Z
DTEND:20240710T223000Z
LOCATION:
SUMMARY:Streicheleinheiten für die Seele
DESCRIPTION:Auch dieses Jahr laden wir Sie wieder herzlich ein zu unserem S
 ommerkonzert mit Streicheleinheiten für die Seele. Rodrigo Tobar & Banda w
 erden uns mit auf eine Reise der lateinamerikanischen Klänge nehmen. Diese
  Zweigenerationen-Familien-Band wird auf Konzerten in Südamerika\,  Europa
  und China mit ihrem lebendigen und mitreißenden latein-amerikanischen Sou
 nd enthusiastisch gefeiert.[..]\nhttps://in-gl.de/events/streicheleinheiten
 -fuer-die-seele/
URL:https://in-gl.de/events/streicheleinheiten-fuer-die-seele/
END:VEVENT
END:VCALENDAR