BEGIN:VCALENDAR
VERSION:2.0
PRODID:-//eventon.com NONSGML v1.0//EN
CALSCALE:GREGORIAN
METHOD:PUBLISH
BEGIN:VEVENT
UID:69e54c3a84794
DTSTAMP:20260419T214218Z
DTSTART:20240716T130000Z
DTEND:20240716T160000Z
LOCATION:
SUMMARY:Spieletests in der Stadtbücherei
DESCRIPTION:Einmal im Monat sind alle Spielebegeisterten eingeladen\,  geme
 insam neue Spiele anzuspielen und gründlich zu testen. In gemütlicher Run
 de werden nicht nur technische Aspekte wie die Steuerung und die Alterseins
 tufung geprüft\,  sondern auch besonderer Wert auf den Spielspaß gelegt! 
 Die Testergebnisse werden regelmäßig auf der Webseite der Stadtbücherei 
 veröffentlicht. Getestet wird[..]\nhttps://in-gl.de/events/spieletests-in-
 der-stadtbuecherei/
URL:https://in-gl.de/events/spieletests-in-der-stadtbuecherei/
END:VEVENT
END:VCALENDAR