BEGIN:VCALENDAR
VERSION:2.0
PRODID:-//eventon.com NONSGML v1.0//EN
CALSCALE:GREGORIAN
METHOD:PUBLISH
BEGIN:VEVENT
UID:69e4fbb2a57ab
DTSTAMP:20260419T155842Z
DTSTART:20240723T100000Z
DTEND:20240723T235000Z
LOCATION:
SUMMARY:Kopfkino mit den Drei ???
DESCRIPTION:Drei Fragezeichen-Fans aufgepasst! In der Bibliothek hÃ¶ren wir
  in gemÃ¼tlicher AtmosphÃ¤re gemeinsam die neue Folge â€žâ€¦der Ruf der KrÃ
 ¤henâ€œ: Die KrÃ¤hen sind los! Als Peter Shaw durch den Palisades Park jogg
 t\,  wird er Zeuge eines unheimlichen Vorfalls: Er hÃ¶rt lautes GekrÃ¤chze 
 und Hilfeschreie. Ein Mann wird von einem Schwarm KrÃ¤hen[..]\nhttps://in-g
 l.de/events/kopfkino-mit-den-drei/
URL:https://in-gl.de/events/kopfkino-mit-den-drei/
END:VEVENT
END:VCALENDAR