BEGIN:VCALENDAR
VERSION:2.0
PRODID:-//eventon.com NONSGML v1.0//EN
CALSCALE:GREGORIAN
METHOD:PUBLISH
BEGIN:VEVENT
UID:69e59156840bb
DTSTAMP:20260420T023710Z
DTSTART:20240824T100000Z
DTEND:20240824T153000Z
LOCATION:
SUMMARY:50 Jahre Realschule Herkenrath
DESCRIPTION:Die Realschule Herkenrath feiert ihr 50-jähriges Jubiläum mit
  einem bunten Sommerfest. Unter dem Motto „Jahrmarkt“ gibt es tradition
 elle Spiele\,  musikalische Unterhaltung und kulinarische Highlights. Eine 
 Ausstellung zeigt die Geschichte der Schule. Ein Tag voller Freude und Geme
 inschaft erwartet die Gäste.\nhttps://in-gl.de/events/50-jahre-realschule-
 herkenrath/
URL:https://in-gl.de/events/50-jahre-realschule-herkenrath/
END:VEVENT
END:VCALENDAR