BEGIN:VCALENDAR
VERSION:2.0
PRODID:-//eventon.com NONSGML v1.0//EN
CALSCALE:GREGORIAN
METHOD:PUBLISH
BEGIN:VEVENT
UID:69e591210239e
DTSTAMP:20260420T023617Z
DTSTART:20240825T100000Z
DTEND:20240825T160000Z
LOCATION:
SUMMARY:Gemeindefest
DESCRIPTION:Das Fest beginnt um 10 Uhr mit einem Familiengottesdienst; gefe
 iert wird von 11-16 Uhr auf dem Kirchplatz mit Kinderprogramm.\nhttps://in-
 gl.de/events/gemeindefest/
URL:https://in-gl.de/events/gemeindefest/
END:VEVENT
END:VCALENDAR