BEGIN:VCALENDAR
VERSION:2.0
PRODID:-//eventon.com NONSGML v1.0//EN
CALSCALE:GREGORIAN
METHOD:PUBLISH
BEGIN:VEVENT
UID:69e614bd98aab
DTSTAMP:20260420T115749Z
DTSTART:20240814T110000Z
DTEND:20240814T235000Z
LOCATION:
SUMMARY:Führung für Kinder: Kindheit in der Alten Dombach um 1850
DESCRIPTION:Die Papiermacherkinder Gertrud und Johann Berg wohnen und arbei
 ten in der Papiermühle. Bei dem Rundgang erfahren die Kinder\,  wie Gertru
 d und Johann leben und welche Arbeiten sie in der Mühle verrichten. Im Ans
 chluss an die Führung kann jeder einen Bogen Papier schöpfen und die Ents
 tehung einer Papierbahn auf der Labor-Papiermaschine[..]\nhttps://in-gl.de/
 events/fuehrung-fuer-kinder-kindheit-in-der-alten-dombach-um-1850-copy/
URL:https://in-gl.de/events/fuehrung-fuer-kinder-kindheit-in-der-alten-dombach-um-1850-copy/
END:VEVENT
END:VCALENDAR