BEGIN:VCALENDAR
VERSION:2.0
PRODID:-//eventon.com NONSGML v1.0//EN
CALSCALE:GREGORIAN
METHOD:PUBLISH
BEGIN:VEVENT
UID:69e7b218bc51b
DTSTAMP:20260421T172128Z
DTSTART:20240815T110000Z
DTEND:20240815T160000Z
LOCATION:
SUMMARY:Workshop: "Kreatives Papierschöpfen"
DESCRIPTION:Wir stellen eigene handgeschöpfte Papiere her. Den Papierbrei 
 dafür werden wir selber ansetzen. Wir experimentieren mit Materialien\,  F
 ormen und Farben. Da es natürlich nass hergehen kann\,  sollte entsprechen
 de Kleidung angezogen werden. Kosten: 5\, 00 € pro Kind\,  Alter: 5-10 Ja
 hre Anmeldung erforderlich bei kulturinfo rheinland\,  Tel. 02234 / 9921555
  oder im[..]\nhttps://in-gl.de/events/workshop-kreatives-papierschoepfen/
URL:https://in-gl.de/events/workshop-kreatives-papierschoepfen/
END:VEVENT
END:VCALENDAR