BEGIN:VCALENDAR
VERSION:2.0
PRODID:-//eventon.com NONSGML v1.0//EN
CALSCALE:GREGORIAN
METHOD:PUBLISH
BEGIN:VEVENT
UID:69e7b23cb8b03
DTSTAMP:20260421T172204Z
DTSTART:20240816T100000Z
DTEND:20240816T143000Z
LOCATION:
SUMMARY:Wissen zum Anfassen: Bauen und Wohnen
DESCRIPTION:Auf der ganzen Welt gibt es ganz unterschiedliche Arten zu wohn
 en: in Wolkenkratzern\,  Zelten\,  in Höhlen\,  auf dem Wasser oder im Eis
 . Nicht nur Menschen bauen Häuser\,  auch Tiere haben verschiedene Behausu
 ngen. Wie Menschen und Tiere ihr Zuhause bauen und dort wohnen\,  möchten 
 wir zusammen herausfinden. Übrigens: Wer am Sommerleseclub[..]\nhttps://in
 -gl.de/events/wissen-zum-anfassen-bauen-und-wohnen/
URL:https://in-gl.de/events/wissen-zum-anfassen-bauen-und-wohnen/
END:VEVENT
END:VCALENDAR