BEGIN:VCALENDAR
VERSION:2.0
PRODID:-//eventon.com NONSGML v1.0//EN
CALSCALE:GREGORIAN
METHOD:PUBLISH
BEGIN:VEVENT
UID:69e5915fe7620
DTSTAMP:20260420T023719Z
DTSTART:20240824T150000Z
DTEND:20240824T170000Z
LOCATION:
SUMMARY:Vorleseabenteuer fÃ¼r die ganze Familie mit Gabriele Friedel
DESCRIPTION:Gaby Friedel nimmt kleine und groÃŸe HÃ¶rer mit auf eine bunte\
 ,  unterhaltsame Reise durch die MÃ¤rchenwelt des Kinderbuchautors Otfried 
 PreuÃŸler. Alle sind eingeladen\,  gemeinsam mit der kleinen Hexe\,  dem RÃ
 ¤uber Hotzenplotz und dem kleinen Wassermann fantasievolle und spannende Ab
 enteuer zu erleben. Dazu werden die farbigen Illustrationen der neuen Ausga
 ben groÃŸformatig[..]\nhttps://in-gl.de/events/vorleseabenteuer-fuer-die-ga
 nze-familie-mit-gabriele-friedel/
URL:https://in-gl.de/events/vorleseabenteuer-fuer-die-ganze-familie-mit-gabriele-friedel/
END:VEVENT
END:VCALENDAR