BEGIN:VCALENDAR
VERSION:2.0
PRODID:-//eventon.com NONSGML v1.0//EN
CALSCALE:GREGORIAN
METHOD:PUBLISH
BEGIN:VEVENT
UID:69e5915af23b3
DTSTAMP:20260420T023714Z
DTSTART:20240828T153000Z
DTEND:20240828T235000Z
LOCATION:
SUMMARY:Kinderkonzert "Der Schwan"
DESCRIPTION:Der Schwan - auf Umwegen zum Karneval der Tiere Eines Tages bek
 ommt der Schwan die Einladung\,  beim berühmten „Karneval der Tiere“ a
 ufzutreten. Geschmeichelt schwimmt er los und trifft unterwegs die Frösche
 \,  die auch ein Fest am See feiern\,  eine launische Forelle\,  die höchs
 t gefährlich lebt\,  eine Entenfamilie mit sehr verschiedenen[..]\nhttps:/
 /in-gl.de/events/kinderkonzert-der-schwan/
URL:https://in-gl.de/events/kinderkonzert-der-schwan/
END:VEVENT
END:VCALENDAR