BEGIN:VCALENDAR
VERSION:2.0
PRODID:-//eventon.com NONSGML v1.0//EN
CALSCALE:GREGORIAN
METHOD:PUBLISH
BEGIN:VEVENT
UID:69e59183424c6
DTSTAMP:20260420T023755Z
DTSTART:20240831T100000Z
DTEND:20240831T140000Z
LOCATION:
SUMMARY:Schnuppertag der VHS
DESCRIPTION:Das Team der Volkshochschule lädt wieder zum Schnuppertag ein!
  Nutzen Sie die Gelegenheit\,  kostenlos in das umfangreiche Angebot hinein
 zuschnuppern und das Haus Buchmühle näher kennenzulernen. Ob Tanzen\,  Pa
 tchwork\,  Makramee oder Fotografie – viele spannende Themen zum Mitmache
 n und Ausprobieren warten auf Sie! Für das leibliche Wohl ist ebenfalls ge
 sorgt. Nähere[..]\nhttps://in-gl.de/events/schnuppertag-der-vhs/
URL:https://in-gl.de/events/schnuppertag-der-vhs/
END:VEVENT
END:VCALENDAR