BEGIN:VCALENDAR
VERSION:2.0
PRODID:-//eventon.com NONSGML v1.0//EN
CALSCALE:GREGORIAN
METHOD:PUBLISH
BEGIN:VEVENT
UID:69e591743471a
DTSTAMP:20260420T023740Z
DTSTART:20240831T100000Z
DTEND:20240831T170000Z
LOCATION:
SUMMARY:Veedelsfest Refrath
DESCRIPTION:Das Fest von und für Refratherinnen und Refrather! Mitmachen k
 ann jede/r. Ob Tag der offenen Tür Aktionen\,  Ausstellungen\,  Spiel\,  S
 port\,  Schnäppchen\,  Überraschungen - mal schauen\,  was sich da die Re
 frather einfallen lassen. Weitere Informationen unter www.veedelsfest.de. A
 uf einem googlebasierten Stadtplan zeigen Herzchen an\,  wo\,  was\,  wann 
 stattfindet. Alle Aktionen sind[..]\nhttps://in-gl.de/events/veedelsfest-re
 frath/
URL:https://in-gl.de/events/veedelsfest-refrath/
END:VEVENT
END:VCALENDAR