BEGIN:VCALENDAR
VERSION:2.0
PRODID:-//eventon.com NONSGML v1.0//EN
CALSCALE:GREGORIAN
METHOD:PUBLISH
BEGIN:VEVENT
UID:69e5916aca284
DTSTAMP:20260420T023730Z
DTSTART:20240825T110000Z
DTEND:20240825T235000Z
LOCATION:
SUMMARY:Grillfest
DESCRIPTION:Es finden Auftritte des sechsfachen Meisterchors statt um 12.00
  Uhr und um 15.00 Uhr Wir laden alle herzlich ein unserem Gesang zu folgen 
 bei Kaffee und Kuchen\,  bei kühlen Getränken und Spezialitäten vom Gril
 l.\nhttps://in-gl.de/events/grillfest/
URL:https://in-gl.de/events/grillfest/
END:VEVENT
END:VCALENDAR