BEGIN:VCALENDAR
VERSION:2.0
PRODID:-//eventon.com NONSGML v1.0//EN
CALSCALE:GREGORIAN
METHOD:PUBLISH
BEGIN:VEVENT
UID:69e5916f216b4
DTSTAMP:20260420T023735Z
DTSTART:20240907T100000Z
DTEND:20240907T140000Z
LOCATION:
SUMMARY:Kinderkleiderbörse
DESCRIPTION:Baby- und Kinderkleidung für Herbst und Winter\,  Schuhe\,  Sp
 ielsachen\,  Bücher\,  Fahrzeuge und Umstandskleidung. Für Schwangere wer
 den die Türen bereits um 9:30h geöffnet. Kontakt: kleiderboerse.schildgen
 @web.de\nhttps://in-gl.de/events/kinderkleiderboerse-2/
URL:https://in-gl.de/events/kinderkleiderboerse-2/
END:VEVENT
END:VCALENDAR