BEGIN:VCALENDAR
VERSION:2.0
PRODID:-//eventon.com NONSGML v1.0//EN
CALSCALE:GREGORIAN
METHOD:PUBLISH
BEGIN:VEVENT
UID:69e7b237a2e2d
DTSTAMP:20260421T172159Z
DTSTART:20240829T193000Z
DTEND:20240829T210000Z
LOCATION:
SUMMARY:Medizindialog: Krampfadern
DESCRIPTION:PD Dr. med. Payman Majd\,  Chefarzt der Klinik für Gefäßchir
 urgie\,  spricht über Diagnostik und Therapie von Krampfadern. Krampfadern
  sind ein verbreitetes Krankheitsbild\,  in den meisten Fällen harmlos und
  lediglich ästhetisch störend. Allerdings gibt es auch Ausprägungen\,  d
 ie aus medizinischen Gründen eine Behandlung erfordern. Behandlungsbedarf 
 besteht insbesondere dann\,  wenn über die[..]\nhttps://in-gl.de/events/me
 dizindialog-krampfadern/
URL:https://in-gl.de/events/medizindialog-krampfadern/
END:VEVENT
END:VCALENDAR