BEGIN:VCALENDAR
VERSION:2.0
PRODID:-//eventon.com NONSGML v1.0//EN
CALSCALE:GREGORIAN
METHOD:PUBLISH
BEGIN:VEVENT
UID:69ea033fe1a69
DTSTAMP:20260423T113215Z
DTSTART:20240904T170000Z
DTEND:20240904T200000Z
LOCATION:
SUMMARY:Gesundheitswanderung
DESCRIPTION:Gesundheitswanderung im Diepeschrather Wald\,  ca. 6 km\,  Wand
 erzeit ca. 2 Std. Unterwegs machen wir physiotherapeutische Übungen im Ste
 hen\,  die auf vielfältige Weise unsere Gesundheit fördern. Sie können g
 erne Ihre Wanderstöcke mitbringen. Bitte denken Sie auch an ein Getränk f
 ür unsere Pausen. Kostenfrei\,  Spenden erbeten Die Veranstaltung ist nich
 t barrierefrei Anmeldung[..]\nhttps://in-gl.de/events/gesundheitswanderung/
URL:https://in-gl.de/events/gesundheitswanderung/
END:VEVENT
END:VCALENDAR