BEGIN:VCALENDAR
VERSION:2.0
PRODID:-//eventon.com NONSGML v1.0//EN
CALSCALE:GREGORIAN
METHOD:PUBLISH
BEGIN:VEVENT
UID:69e4ee737ab36
DTSTAMP:20260419T150211Z
DTSTART:20240928T200000Z
DTEND:20240928T235000Z
LOCATION:
SUMMARY:Theater-Premiere: Schwarze Schwäne
DESCRIPTION:Weitere Vorstellungen: So. 29.09.2024 | 18 Uhr Sa. 05.10.2024 |
  20 Uhr So. 06.10.2024 | 18 Uhr Sa 12.10.2024 | 20 Uhr Zwei Schwestern\,  w
 ie sie unterschiedlicher nicht sein könnten! Die Ältere: Single\,  freihe
 itsliebend\,  ständig unterwegs. Die Jüngere: verheiratet\,  zwei Kinder\
 ,  Hausfrau. Aber wenn es um ihre kranke Mutter geht\, [..]\nhttps://in-gl.
 de/events/theater-premiere-schwarze-schwaene/
URL:https://in-gl.de/events/theater-premiere-schwarze-schwaene/
END:VEVENT
END:VCALENDAR