BEGIN:VCALENDAR
VERSION:2.0
PRODID:-//eventon.com NONSGML v1.0//EN
CALSCALE:GREGORIAN
METHOD:PUBLISH
BEGIN:VEVENT
UID:69e6337ebf5b5
DTSTAMP:20260420T140902Z
DTSTART:20241010T190000Z
DTEND:20241010T235000Z
LOCATION:
SUMMARY:Filmvorführung: Sound of Freedom
DESCRIPTION:Sound of Freedom: Ein Film\,  der aufrüttelt. Ein Thema\,  das
  uns alle angeht. Der weltweite Kinoerfolg ist ein packender\,  hochemotion
 aler Thriller\,  der unter die Haut geht. Er basiert auf der wahren Geschic
 hte von Tim Ballard\,  einem Polizisten\,  der seinen Job kündigt\,  um Ki
 nder aus den Fängen brutaler Menschenhändler zu befreien.[..]\nhttps://in
 -gl.de/events/filmvorfuehrung-sound-of-freedom/
URL:https://in-gl.de/events/filmvorfuehrung-sound-of-freedom/
END:VEVENT
END:VCALENDAR