BEGIN:VCALENDAR
VERSION:2.0
PRODID:-//eventon.com NONSGML v1.0//EN
CALSCALE:GREGORIAN
METHOD:PUBLISH
BEGIN:VEVENT
UID:69e51c4034147
DTSTAMP:20260419T181736Z
DTSTART:20241006T180000Z
DTEND:20241006T235000Z
LOCATION:
SUMMARY:„Erntedankvesper“
DESCRIPTION:Ulla Pillmann (Gesang\,  Klavier) und Xaver Hetzenegger (Klavie
 r\,  Orgel) spielen „Musik zur Ernte“. Ulla Pillmann liest passende Tex
 te. Einlass eine halbe Stunde vor Veranstaltungsbeginn Kontakt: Birgit Dwor
 nicki\, Tel. 02204/63398\, E-Mail: birgit.dwornicki@ekir.de Der Eintritt is
 t frei\, jedoch wird am Ausgang um eine Spende gebeten.\nhttps://in-gl.de/e
 vents/erntedankvesper/
URL:https://in-gl.de/events/erntedankvesper/
END:VEVENT
END:VCALENDAR